BEGIN:VCALENDAR
VERSION:2.0
PRODID:-//wp-events-plugin.com//7.2.3.1//EN
TZID:Europe/Berlin
X-WR-TIMEZONE:Europe/Berlin
BEGIN:VEVENT
UID:2@tus-ovenhausen.de
DTSTART;TZID=Europe/Berlin;VALUE=DATE:20190802
DTEND;TZID=Europe/Berlin;VALUE=DATE:20190803
DTSTAMP:20190524T165208Z
URL:https://www.tus-ovenhausen.de/termine/berglauf-2019-in-ovenhausen/
SUMMARY:Berglauf 2019 in Ovenhausen
DESCRIPTION:kwt
LOCATION:Sportplatz Ovenhausen\, Grube Stadion\, Höxter\, Nordrhein-Westfa
 len\, 37671\, Kreis Höxter\, Deutschland
GEO:51.7771897;9.2913152
X-APPLE-STRUCTURED-LOCATION;VALUE=URI;X-ADDRESS=Grube Stadion\, Höxter\, N
 ordrhein-Westfalen\, 37671\, Kreis Höxter\, Deutschland;X-APPLE-RADIUS=10
 0;X-TITLE=Sportplatz Ovenhausen:geo:51.7771897,9.2913152
END:VEVENT
BEGIN:VTIMEZONE
TZID:Europe/Berlin
X-LIC-LOCATION:Europe/Berlin
BEGIN:DAYLIGHT
DTSTART:20190331T030000
TZOFFSETFROM:+0100
TZOFFSETTO:+0200
TZNAME:CEST
END:DAYLIGHT
END:VTIMEZONE
END:VCALENDAR